BEGIN:VCALENDAR
VERSION:2.0
PRODID:-//jEvents 2.0 for Joomla//EN
CALSCALE:GREGORIAN
METHOD:PUBLISH
BEGIN:VEVENT
UID:f68d55a8fc1d0e577ebf0bfd2a075c10
CATEGORIES:DEFAULT
CREATED:20150210T134808
SUMMARY:26. MAZ Osterspaziergang
LOCATION:Arboretum
DESCRIPTION:
DTSTAMP:20260422T000655Z
DTSTART:20180331T110000Z
DTEND:20180331T150000Z
SEQUENCE:0
TRANSP:OPAQUE
END:VEVENT
END:VCALENDAR