BEGIN:VCALENDAR
VERSION:2.0
PRODID:-//jEvents 2.0 for Joomla//EN
CALSCALE:GREGORIAN
METHOD:PUBLISH
BEGIN:VEVENT
UID:c19d4d9ef1f26406d70f52d9d4810cf2
CATEGORIES:DEFAULT
CREATED:20170929T104659
SUMMARY:14. Weihnachtsmarkt
LOCATION:Arboretum
DESCRIPTION:
DTSTAMP:20260421T115310Z
DTSTART:20171217T110000Z
DTEND:20171217T170000Z
SEQUENCE:0
TRANSP:OPAQUE
END:VEVENT
END:VCALENDAR