BEGIN:VCALENDAR
VERSION:2.0
PRODID:-//jEvents 2.0 for Joomla//EN
CALSCALE:GREGORIAN
METHOD:PUBLISH
BEGIN:VEVENT
UID:8ead6d39a10c450d5246756d5a2361ea
CATEGORIES:DEFAULT
CREATED:20150210T134950
SUMMARY:Männer machen den Weihnachtsbraten
LOCATION:Arboretum
DESCRIPTION:
DTSTAMP:20260422T052440Z
DTSTART:20231224T080000Z
SEQUENCE:0
TRANSP:OPAQUE
END:VEVENT
END:VCALENDAR