BEGIN:VCALENDAR
VERSION:2.0
PRODID:-//jEvents 2.0 for Joomla//EN
CALSCALE:GREGORIAN
METHOD:PUBLISH
BEGIN:VEVENT
UID:c0be56a2deec38cf83169f9b5002b24d
CATEGORIES:DEFAULT
CREATED:20221028T144626
SUMMARY:19. Dreetzer Weihnachtsmarkt
DESCRIPTION:
DTSTAMP:20260422T052446Z
DTSTART:20231217T110000Z
DTEND:20231217T170000Z
SEQUENCE:0
TRANSP:OPAQUE
END:VEVENT
END:VCALENDAR