BEGIN:VCALENDAR
VERSION:2.0
PRODID:-//jEvents 2.0 for Joomla//EN
CALSCALE:GREGORIAN
METHOD:PUBLISH
BEGIN:VEVENT
UID:3c1d645ab611e1ccc7d8645aa7cd80ad
CATEGORIES:DEFAULT
CREATED:20181101T135740
SUMMARY:15. Weihnachtsmarkt
LOCATION:Arboretum
DESCRIPTION:
DTSTAMP:20260419T142757Z
DTSTART:20181216T110000Z
DTEND:20181216T170000Z
SEQUENCE:0
TRANSP:OPAQUE
END:VEVENT
END:VCALENDAR